BEGIN:VCALENDAR
VERSION:2.0
PRODID:-//InvisionCommunity Events 4.7.14//EN
METHOD:PUBLISH
CALSCALE:GREGORIAN
REFRESH-INTERVAL:PT15M
X-PUBLISHED-TTL:PT15M
X-WR-CALNAME:Календарь сообщества
NAME:Календарь сообщества
BEGIN:VTIMEZONE
TZID:Europe/London
TZURL:http://tzurl.org/zoneinfo/Europe/London
X-LIC-LOCATION:Europe/London
BEGIN:DAYLIGHT
TZOFFSETFROM:+0000
TZOFFSETTO:+0100
TZNAME:BST
DTSTART:20150329T020000Z
RRULE:FREQ=YEARLY;BYMONTH=3;BYDAY=-1SU
END:DAYLIGHT
BEGIN:STANDARD
TZOFFSETFROM:+0100
TZOFFSETTO:+0000
TZNAME:GMT
DTSTART:20151025T020000Z
RRULE:FREQ=YEARLY;BYMONTH=10;BYDAY=-1SU
END:STANDARD
END:VTIMEZONE
BEGIN:VEVENT
SUMMARY:Поездка в Липецк 25-27 сентября
DTSTAMP:20150909T155015Z
SEQUENCE:0
UID:12-1-f55a3b690c522090a01ff8b3c32b2829@teamcadillac.ru
ORGANIZER;CN="Maxim":admin@teamcadillac.ru
DESCRIPTION:\nЗавтра\, точка вс
	тречи для тех кто стартует в 10 утра \nhttps:/
	/maps.yandex.ru/?um=fo-e55is2Tsjfg9cPWeOBGAYBdp-uh_E&amp\;l=map\n\n
DTSTART;VALUE=DATE:20150924
END:VEVENT
END:VCALENDAR
