BEGIN:VCALENDAR
VERSION:2.0
PRODID:-//InvisionCommunity Events 4.7.14//EN
METHOD:PUBLISH
CALSCALE:GREGORIAN
REFRESH-INTERVAL:PT15M
X-PUBLISHED-TTL:PT15M
X-WR-CALNAME:Календарь сообщества
NAME:Календарь сообщества
BEGIN:VTIMEZONE
TZID:Europe/London
TZURL:http://tzurl.org/zoneinfo/Europe/London
X-LIC-LOCATION:Europe/London
BEGIN:DAYLIGHT
TZOFFSETFROM:+0000
TZOFFSETTO:+0100
TZNAME:BST
DTSTART:20160327T020000Z
RRULE:FREQ=YEARLY;BYMONTH=3;BYDAY=-1SU
END:DAYLIGHT
BEGIN:STANDARD
TZOFFSETFROM:+0100
TZOFFSETTO:+0000
TZNAME:GMT
DTSTART:20161030T020000Z
RRULE:FREQ=YEARLY;BYMONTH=10;BYDAY=-1SU
END:STANDARD
END:VTIMEZONE
BEGIN:VEVENT
SUMMARY:Фестиваль Амери
	канских Автомобилей и Мотоциклов — Born To 
	Be Wild
DTSTAMP:20160630T175323Z
SEQUENCE:0
UID:30-1-f55a3b690c522090a01ff8b3c32b2829@teamcadillac.ru
ORGANIZER;CN="DruidMax":admin@teamcadillac.ru
DESCRIPTION:\n\n	 \n\n\n\n	\n\n\n\n	2-го ию
	ля состои
	тся 2-й ежегодн
	ый фестиваль американских 
	автомобилей и мотоциклов — Born
	 To Be Wild\n\n\n\n	Место проведе
	ния: МО\, Рузский р-н. д. С
	тарая Руза. ДО Эко-Оте
	ль Актёр Руза.\n\n\n
	\n	В программ
	е фестиваля:\
	n	— Выставка аме
	риканских автомобилей и мото
	циклов\n	— Живая музыка: TOMCAT\, Diamond Hand\, 
	Mess\, Cobalt Station\n	— Конкурсы дл
	я участников\n	— Награ
	ждение Miss Bike FM\n	—
	 Развлекател
	ьная программа для детей и ан
	имация\n	— Природа и чистый воздух \n
DTSTART;VALUE=DATE:20160702
ATTENDEE;CN="DruidMax";CUTYPE=INDIVIDUAL;PARTSTAT=ACCEPTED:a
	dmin@teamcadillac.ru
END:VEVENT
END:VCALENDAR
