BEGIN:VCALENDAR
VERSION:2.0
PRODID:-//InvisionCommunity Events 4.7.14//EN
METHOD:PUBLISH
CALSCALE:GREGORIAN
REFRESH-INTERVAL:PT15M
X-PUBLISHED-TTL:PT15M
X-WR-CALNAME:Календарь сообщества
NAME:Календарь сообщества
BEGIN:VTIMEZONE
TZID:Europe/London
TZURL:http://tzurl.org/zoneinfo/Europe/London
X-LIC-LOCATION:Europe/London
BEGIN:DAYLIGHT
TZOFFSETFROM:+0000
TZOFFSETTO:+0100
TZNAME:BST
DTSTART:20170326T020000Z
RRULE:FREQ=YEARLY;BYMONTH=3;BYDAY=-1SU
END:DAYLIGHT
BEGIN:STANDARD
TZOFFSETFROM:+0100
TZOFFSETTO:+0000
TZNAME:GMT
DTSTART:20171029T020000Z
RRULE:FREQ=YEARLY;BYMONTH=10;BYDAY=-1SU
END:STANDARD
END:VTIMEZONE
BEGIN:VEVENT
SUMMARY:Детейлинг день в Санкт-Петербур
	ге 01.10.2017
DTSTAMP:20170921T101740Z
SEQUENCE:0
UID:45-1-f55a3b690c522090a01ff8b3c32b2829@teamcadillac.ru
ORGANIZER;CN="Maxim":admin@teamcadillac.ru
DESCRIPTION:\n\n	ДЕТЕЙЛИНГ ДЕНЬ CADILLAC TEAM RUSSI
	A В PRIDEMOBILE\, САНКТ-ПЕТЕРБУР
	Г\n\n\n\n	Всем привет\,
	 наступила осень. 
	И уже не за горам
	и зима – пора с
	нега\, слякоти 
	и солей. Есл
	и вы хотите каждый д
	ень наслаждаться бл
	еском и красотой св
	оего CADILLAC\, мы п
	риглашаем
	 всех владе
	льцев на де
	тейлинг день в Центр
	 технического обслуживания и 
	тюнинга авто PRIDEMOBILE.RU  \n\n\n\n	Нач
	ало 1 октября  в 11:00 до 19:00 – 
	заезжает последняя машина\n\n\n\n	 \n\n\n\n\n	 \n
	\n
DTSTART:20171001T070000Z
DTEND:20171001T150000Z
ATTENDEE;CN="Maxim";CUTYPE=INDIVIDUAL;PARTSTAT=ACCEPTED:admi
	n@teamcadillac.ru
ATTENDEE;CN="slava272";CUTYPE=INDIVIDUAL;PARTSTAT=ACCEPTED:a
	dmin@teamcadillac.ru
ATTENDEE;CN="Archy";CUTYPE=INDIVIDUAL;PARTSTAT=ACCEPTED:admi
	n@teamcadillac.ru
END:VEVENT
END:VCALENDAR
