BEGIN:VCALENDAR
VERSION:2.0
PRODID:-//InvisionCommunity Events 4.7.14//EN
METHOD:PUBLISH
CALSCALE:GREGORIAN
REFRESH-INTERVAL:PT15M
X-PUBLISHED-TTL:PT15M
X-WR-CALNAME:Календарь сообщества
NAME:Календарь сообщества
BEGIN:VTIMEZONE
TZID:Europe/London
TZURL:http://tzurl.org/zoneinfo/Europe/London
X-LIC-LOCATION:Europe/London
BEGIN:DAYLIGHT
TZOFFSETFROM:+0000
TZOFFSETTO:+0100
TZNAME:BST
DTSTART:20180325T020000Z
RRULE:FREQ=YEARLY;BYMONTH=3;BYDAY=-1SU
END:DAYLIGHT
BEGIN:STANDARD
TZOFFSETFROM:+0100
TZOFFSETTO:+0000
TZNAME:GMT
DTSTART:20181028T020000Z
RRULE:FREQ=YEARLY;BYMONTH=10;BYDAY=-1SU
END:STANDARD
END:VTIMEZONE
BEGIN:VEVENT
SUMMARY:Поездка на Alfa Future People 2018
DTSTAMP:20171123T214849Z
SEQUENCE:0
UID:47-1-f55a3b690c522090a01ff8b3c32b2829@teamcadillac.ru
ORGANIZER;CN="Maxim":admin@teamcadillac.ru
DESCRIPTION:\n\n\n	Точные даты будут извест
	ны позже... \n\n
DTSTART:20180809T210000Z
DTEND:20180811T210000Z
ATTENDEE;CN="Maxim";CUTYPE=INDIVIDUAL;PARTSTAT=ACCEPTED:admi
	n@teamcadillac.ru
ATTENDEE;CN="basilevs";CUTYPE=INDIVIDUAL;PARTSTAT=ACCEPTED:a
	dmin@teamcadillac.ru
END:VEVENT
END:VCALENDAR
