BEGIN:VCALENDAR
VERSION:2.0
PRODID:-//InvisionCommunity Events 4.7.14//EN
METHOD:PUBLISH
CALSCALE:GREGORIAN
REFRESH-INTERVAL:PT15M
X-PUBLISHED-TTL:PT15M
X-WR-CALNAME:Календарь сообщества
NAME:Календарь сообщества
BEGIN:VTIMEZONE
TZID:Europe/London
TZURL:http://tzurl.org/zoneinfo/Europe/London
X-LIC-LOCATION:Europe/London
BEGIN:DAYLIGHT
TZOFFSETFROM:+0000
TZOFFSETTO:+0100
TZNAME:BST
DTSTART:20180325T020000Z
RRULE:FREQ=YEARLY;BYMONTH=3;BYDAY=-1SU
END:DAYLIGHT
BEGIN:STANDARD
TZOFFSETFROM:+0100
TZOFFSETTO:+0000
TZNAME:GMT
DTSTART:20181028T020000Z
RRULE:FREQ=YEARLY;BYMONTH=10;BYDAY=-1SU
END:STANDARD
END:VTIMEZONE
BEGIN:VEVENT
SUMMARY:Спорт встреча в Субботу 07.
	04\, Игра в Теннис с 20 до 00:00
DTSTAMP:20180402T114548Z
SEQUENCE:0
UID:53-1-f55a3b690c522090a01ff8b3c32b2829@teamcadillac.ru
ORGANIZER;CN="Maxim":admin@teamcadillac.ru
DESCRIPTION:\n\n	Приглашаем В
	ас на теннисную т
	усовку в РЖД Арена 
	(50 метров от метр
	о Черкизовская\,
	 большой паркинг) 
	! Будет весело и спортивн
	о! Скучать не будем. Будет 2 группы с
	 21 до 22.30 и 22.30 и 00.00. Перв
	ая тренировка
	 прошла на Ура 
	и многие не смо
	гли доехать. Не переключайт
	есь - скоро будет еще веселее) \n\n\n\n	http://tea
	mcadillac.ru/topic/1971-спорт-встреча-в-
	субботу-0704-игра-в-теннис-с-20-до-0000\n\n\n\n\n	 \
	n\n
DTSTART:20180407T170000Z
DTEND:20180406T210000Z
ATTENDEE;CN="Maxim";CUTYPE=INDIVIDUAL;PARTSTAT=ACCEPTED:admi
	n@teamcadillac.ru
END:VEVENT
END:VCALENDAR
